BEGIN:VCALENDAR
VERSION:2.0
PRODID:-//eventon.com NONSGML v1.0//EN
CALSCALE:GREGORIAN
METHOD:PUBLISH
BEGIN:VEVENT
UID:69ea2167adb3e
DTSTAMP:20260423T134055Z
DTSTART:20260418T190000Z
DTEND:20260419T025900Z
LOCATION:
SUMMARY:Guns N’ Roses em Fortaleza
DESCRIPTION:O&nbsp;Guns N’ Roses&nbsp;anuncia uma nova etapa da turnê&nb
 sp;“Because What You Want and What You Get Are Two Completely Different T
 hings” para 2026. A banda confirmou diversos shows da turnê no Brasil. E
 ntre as novas datas\,  está a apresentação em Fortaleza\,  na Arena Cast
 elão\,  marcada para o dia 18 de abril.[..]\nhttps://multientretenimento.c
 om.br/events/guns-n-roses-em-fortaleza/
URL:https://multientretenimento.com.br/events/guns-n-roses-em-fortaleza/
END:VEVENT
END:VCALENDAR